BEGIN:VCALENDAR
PRODID:-//hacksw/handcal//NONSGML v1.0//EN
VERSION:2.0
METHOD:PUBLISH
BEGIN:VEVENT
DTSTART:20270224T190000Z
DTEND:20270224T220000Z
LOCATION:Holiday Inn 3803 13th Ave S Fargo ND 58103
UID:2946020270224T190000ZCommercial Annuities, Charitable Gift Annuities, and IRAs
DTSTAMP:20260422T031011Z
DESCRIPTION:\nLunch served in the room from 11:45 to 12:45\n\nWith more than 30 years of experience as a practicing attorney in charitable and estate planning, Johni Hays is a recognized leader with her expertise in charitable gift planning. Johni is an Executive Vice President with Thompson & Associates. In her volunteer time, Johni formed and leads the national RIFT project to support nonprofits who are having trouble getting their donorâs gifts from financial institutions. Sheâs the retired president of the Charitable Estate Planning Institute and the author of the book, Essentials of Annuities and co-author of two books, The Tools and Techniques of Charitable Planning and Message From the Mastersâour Best Donor Stories that Made a Difference. Johni serves on the Smithsonianâs Professional Advisors Network in Washington, DC.  \n\nPrior to joining Thompson & Associates, Johni served as the Senior Gift Planning Consultant for The Stelter Company. Prior to that as the Executive Director of the Greater Des Moines Community Foundation Planned Giving Institute. In addition, Johni practiced estate planning with Myers Krause and Stevens, Chartered law firm in Naples Florida, where she specialized in estate planning. \n\nJohni graduated cum laude with a Juris Doctor degree from Drake University in Des Moines, Iowa, in 1993. She also holds a Bachelor of Science degree in Business Administration from Drake University and graduated magna cum laude in 1988. Johni has been a member of both the Iowa Bar and the Florida Bar since 1993. She resides in Johnston, Iowa, with her husband, Dave Schlindwein. \n\n \n
SUMMARY:Commercial Annuities, Charitable Gift Annuities, and IRAs - Red River Valley Estate Planning Council 
PRIORITY:3
BEGIN:VALARM
TRIGGER:PT18H
ACTION:DISPLAY
DESCRIPTION:Reminder
END:VALARM
END:VEVENT
END:VCALENDAR