BEGIN:VCALENDAR
PRODID:-//hacksw/handcal//NONSGML v1.0//EN
VERSION:2.0
METHOD:PUBLISH
BEGIN:VEVENT
DTSTART:20270127T190000Z
DTEND:20270127T220000Z
LOCATION:Holiday Inn 3803 13th Ave S Fargo ND 58103
UID:2945920270127T190000ZCharitable Topic
DTSTAMP:20260422T031012Z
DESCRIPTION:\nLunch served in the room from 11:45 to 12:45\n
SUMMARY:Charitable Topic - Red River Valley Estate Planning Council 
PRIORITY:3
BEGIN:VALARM
TRIGGER:PT18H
ACTION:DISPLAY
DESCRIPTION:Reminder
END:VALARM
END:VEVENT
END:VCALENDAR