BEGIN:VCALENDAR
PRODID:-//hacksw/handcal//NONSGML v1.0//EN
VERSION:2.0
METHOD:PUBLISH
BEGIN:VEVENT
DTSTART:20261118T190000Z
DTEND:20261118T220000Z
LOCATION:Holiday Inn 3803 13th Ave S Fargo ND 58103
UID:2945820261118T190000ZEstate Planning For Farmers
DTSTAMP:20260422T031012Z
DESCRIPTION:\nLunch Served in the room from 11:45 to 12:45\n
SUMMARY:Estate Planning For Farmers - Red River Valley Estate Planning Council 
PRIORITY:3
BEGIN:VALARM
TRIGGER:PT18H
ACTION:DISPLAY
DESCRIPTION:Reminder
END:VALARM
END:VEVENT
END:VCALENDAR