BEGIN:VCALENDAR
PRODID:-//hacksw/handcal//NONSGML v1.0//EN
VERSION:2.0
METHOD:PUBLISH
BEGIN:VEVENT
DTSTART:20260121T190000Z
DTEND:20260121T220000Z
LOCATION:Holiday Inn 3803 13th Ave SW Fargo ND 58103
UID:2781420260121T190000ZFinal Regulations Under the Secure Act and Other Tax Rules for Trusts and Estates
DTSTAMP:20260422T214102Z
DESCRIPTION:\nLunch will be served in the room from 11:45 to 12:45\n \nBryan Jamison graduated cum laude from William Mitchell College of Law (St. Paul, MN) in\n 1985.  Bryan (with his wife, Janet, who is also an attorney) opened their private law practice,\n Jamison & Jamison, P.A., in 1986.  Their practice focuses primarily on:\n •tax: drafting individual income tax returns, fiduciary income tax returns and estate tax\n returns and assisting clients in planning relating to income and estate tax issues;\n •estate planning: drafting wills & trusts with an emphasis on estates ranging from\n $1,000,000 to $10,000,000;\n •probate: helping clients plan to avoid probate and/or counseling clients through the\n probate process;\n •medical assistance planning: assisting clients in planning for disability and in obtaining\n medical assistance benefits to pay for needed care.\n Bryan is a frequent lecturer at continuing legal education seminars. His presentation topics\n typically focus on tax issues involved in the estate planning process.\n
SUMMARY:Final Regulations Under the Secure Act and Other Tax Rules for Trusts and Estates - Red River Valley Estate Planning Council 
PRIORITY:3
BEGIN:VALARM
TRIGGER:PT18H
ACTION:DISPLAY
DESCRIPTION:Reminder
END:VALARM
END:VEVENT
END:VCALENDAR