BEGIN:VCALENDAR
PRODID:-//hacksw/handcal//NONSGML v1.0//EN
VERSION:2.0
METHOD:PUBLISH
BEGIN:VEVENT
DTSTART:20241120T190000Z
DTEND:20241120T220000Z
LOCATION:Holiday Inn 3803 13th Ave S Fargo ND 58103
UID:2550420241120T190000Z50 Ways to Leave Your Legacy
DTSTAMP:20260422T215922Z
DESCRIPTION:\nLunch will be served in the room from 11:45 to 12:45\n \nBrad assists private foundations and public charities with navigating complex tax regulationsand procedures, including receipt and disposition of complex charitable gifts andparticipation in innovative forms of impactful philanthropy. He also advises on governance matters, guiding charities and other nonprofits through formation, reorganizations, mergers,  affiliations, and dissolutions. Additionally, Brad advises private clients on securing their long-term goals related to preserving and protecting their wealth and executing their philanthropic endeavors. He counsels families on structured charitable giving, estate planning and lifetime gifting strategies. Brad was recognized as a Notable Practitioner assisting US and international high net worth families with philanthropy and trustsand estates planning in Chamber’s High Net Worth\n guide. He is also a Fellow and Regent of theAmerican College of Trust and Estate Counsel.\n \nBrad has 20 years of experience in private practice with national firms and also previously worked as a tax law specialist with the Exempt Organizations Division of the IRS in Washington, D.C. Before his legal career, Brad obtained advanced degrees in English language and literature and taught medieval literature at universities in the United Kingdom, Japan, and the United States.\n \n \n
SUMMARY:50 Ways to Leave Your Legacy - Red River Valley Estate Planning Council 
PRIORITY:3
BEGIN:VALARM
TRIGGER:PT18H
ACTION:DISPLAY
DESCRIPTION:Reminder
END:VALARM
END:VEVENT
END:VCALENDAR