BEGIN:VCALENDAR
PRODID:-//hacksw/handcal//NONSGML v1.0//EN
VERSION:2.0
METHOD:PUBLISH
BEGIN:VEVENT
DTSTART:20230921T210000Z
DTEND:20230921T230000Z
LOCATION:Suite Shots 3400 James Way S Fargo ND 58104
UID:2496020230921T210000ZFall Social
DTSTAMP:20260422T214102Z
DESCRIPTION:
SUMMARY:Fall Social - Red River Valley Estate Planning Council 
PRIORITY:3
BEGIN:VALARM
TRIGGER:PT18H
ACTION:DISPLAY
DESCRIPTION:Reminder
END:VALARM
END:VEVENT
END:VCALENDAR