BEGIN:VCALENDAR
PRODID:-//hacksw/handcal//NONSGML v1.0//EN
VERSION:2.0
METHOD:PUBLISH
BEGIN:VEVENT
DTSTART:20230426T180000Z
DTEND:20230426T210000Z
LOCATION:Holiday Inn 3803 13th Ave SW Fargo ND 58103
UID:2260120230426T180000ZBusiness Succession
DTSTAMP:20260422T214404Z
DESCRIPTION:\nJoshua E. Husbands is a partner in Holland & Knight’s Portland office and a member of the firm's Private Wealth Services Group. He often serves as outside general counsel for private companies and their owners, representing clients in an array of business, tax, philanthropy, business succession and estate planning matters, including business reorganizations, acquisitions and divestitures. He frequently writes and speaks on business, tax, life insurance and asset protection matters concerning businesses and high-net-worth individuals. \n  \n \nMr. Husbands is personally involved in a multi-generational family business and private investment company, and he also has personal experience with family trusts, including serving as a trustee. Having personally been through similar situations as his clients gives Mr. Husbands additional insight and the ability to provide meaningful, comprehensive advice and judgment in such matters. He brings this practical knowledge to all of his personal wealth counseling.  \n  \nLunch serverd 11:45 - 12:45
SUMMARY:Business Succession - Red River Valley Estate Planning Council 
PRIORITY:3
BEGIN:VALARM
TRIGGER:PT18H
ACTION:DISPLAY
DESCRIPTION:Reminder
END:VALARM
END:VEVENT
END:VCALENDAR