BEGIN:VCALENDAR
PRODID:-//hacksw/handcal//NONSGML v1.0//EN
VERSION:2.0
METHOD:PUBLISH
BEGIN:VEVENT
DTSTART:20221116T190000Z
DTEND:20221116T220000Z
LOCATION:Holiday Inn 3803 13th Ave SW Fargo ND 58103
UID:2259720221116T190000ZEstate Planning for Virtual Assets
DTSTAMP:20260422T214527Z
DESCRIPTION:\nProf. Beyer, a nationally and Texas recognized expert in estate planning, joined the faculty of TTU in 2005 as the first holder of the prestigious Governor Preston E. Smith Regents Professorship. He teaches, researches, speaks, and publishes in the areas of estate planning, wills and trusts, probate, and property. In recognition of his expertise and contributions to the legal profession, the National Association of Estate Planners & Councils inducted him into the Estate Planning Hall of Fame in 2015.\n\n\n \nHe has received dozens of teaching awards from many law schools throughout his 40 year career including Texas Tech University, Santa Clara University, and St. Mary's University. At Texas Tech, he has been voted Professor of the Year seven times by various groups and has received the Chancellor's Distinguished Teaching Award (the most prestigious University-wide teaching award at Texas Tech), the President's Excellence in Teaching Award, and the 2015 President's Academic Achievement Award. In 2012, he was elected to the Texas Tech University Teaching Academy.\n\n\n
SUMMARY:Estate Planning for Virtual Assets - Red River Valley Estate Planning Council 
PRIORITY:3
BEGIN:VALARM
TRIGGER:PT18H
ACTION:DISPLAY
DESCRIPTION:Reminder
END:VALARM
END:VEVENT
END:VCALENDAR