BEGIN:VCALENDAR
PRODID:-//hacksw/handcal//NONSGML v1.0//EN
VERSION:2.0
METHOD:PUBLISH
BEGIN:VEVENT
DTSTART:20201118T190000Z
DTEND:20201118T220000Z
LOCATION:Virtual  only
UID:1989220201118T190000ZElder Justice: Obstacles, Opportunities and the State of the Field
DTSTAMP:20260422T214511Z
DESCRIPTION:\nThis Meeting is Virtual only\n \n \n \nMarit Anne Peterson is the Director of Education and Strategic Partnerships for the Minnesota Elder Justice Center.  Prior to joining the Elder Justice Center, Marit practiced estate planning and elder law in the twin cities metro area. Marit is an immediate past chair and current member of the governing council of the Minnesota State Bar Association's Elder Law section. She is also an adjunct faculty member at Augsburg University in the Philosophy Department, where she teaches ethics and bioethics in the adult undergraduate program. Marit has served on the Minnesota Olmstead Specialty Committee for the Prevention of Abuse and Neglect; and serves on the steering committee for Minnesota’s Working Interdisciplinary Network of Guardianship Stakeholders (WINGS) as well as the Honoring Choices Minnesota advisory board\n
SUMMARY:Elder Justice: Obstacles, Opportunities and the State of the Field - Red River Valley Estate Planning Council 
PRIORITY:3
BEGIN:VALARM
TRIGGER:PT18H
ACTION:DISPLAY
DESCRIPTION:Reminder
END:VALARM
END:VEVENT
END:VCALENDAR