BEGIN:VCALENDAR
PRODID:-//hacksw/handcal//NONSGML v1.0//EN
VERSION:2.0
METHOD:PUBLISH
BEGIN:VEVENT
DTSTART:20200429T180000Z
DTEND:20200429T210000Z
LOCATION:Holiday Inn 3803 13th Ave S Fargo ND 58103
UID:1838620200429T180000ZCanceled - Economics with a Regional Emphasis
DTSTAMP:20260422T214102Z
DESCRIPTION:\nAnirban Basu is Chairman & CEO of Sage Policy Group, Inc., an economic and policy consulting firm headquartered in Baltimore, Maryland with offices in Pennsylvania and Indonesia. The firm provides strategic analytical services to energy suppliers, law firms, medical systems, government agencies, and real estate developers among others .\n \nHe currently lectures at Johns Hopkins University in Global Strategy. He has also taught international economics, urban economics, micro- and macroeconomics at Hopkins.  Among other things, Anirban serves as the chief economist to Associated Builders and Contractors (national) and as chief economic advisor to the Construction Financial Management Association.\n \nIn 2007 and then again in 2016, Mr. Basu was selected by the Daily Record newspaper as one of Maryland’s 50 most influential people. The Baltimore Business Journal named him one of the region’s 20 most powerful business leaders in 2010.\n \nMr. Basu earned his B.S. in Foreign Service at Georgetown University in 1990.  He earned his Master’s in Public Policy from Harvard University’s John F. Kennedy School of Government, and his Master’s in Economics from the University of Maryland, College Park.  His Juris Doctor was earned at the University Of Maryland School Of Law.\n \n \n
SUMMARY:Canceled - Economics with a Regional Emphasis - Red River Valley Estate Planning Council 
PRIORITY:3
BEGIN:VALARM
TRIGGER:PT18H
ACTION:DISPLAY
DESCRIPTION:Reminder
END:VALARM
END:VEVENT
END:VCALENDAR